Workbook

Sheet R8
A2: 令和８年度医療機関がん診療体制調査
Z4: ○ 令和８年５月１日現在の状況をご記入ください。
A6: ■貴施設についてご記入ください。
A7: １．医療機関名
A9: ２．住所
A11: ３．電話番号
A13: ４．ＦＡＸ番号
A15: ■回答者についてご記入ください。
A16: １．所属部署
A18: ２．職名
A20: ３．氏名
A22: ４．直通電話番号
A24: ５．メールアドレス
A26: ■以下の設問についてお答えください。（あてはまるものに☑をつけてください。）
... A29: ※公表は、以下を想定しています。
B31: ①高知県がんポータルサイトへの「がん治療を受けられる医療機関」の掲載
B32: （参考：https://gansapo.pref.kochi.lg.jp/search/）
D33: 同意する | K33: 同意しない
B35: ②高知がん診療連携協議会 緩和ケア部会（事務局：高知大学医学部附属病院）へ提供し、 地域連携緩和ケアマップの作成に活用
D36: 同意する | K36: 同意しない
A38: ２．貴施設の体制について
A39: （１）貴施設では、外来や入院でがん患者の治療を行っていますか。
C40: はい | L40: いいえ
B41: ↓「はい」の場合 以下の設問にお答えください。 | K41: ↓「いいえ」の場合 ○緩和ケアを行っている施設は 項目９と10の設問にお答えください。
K42: ○緩和ケアを行っていない施設は 設問は以上です。
A44: （２）貴施設の医師数をお答えください。
B45: 常勤 | D45: （ | G45: 名）
B46: 非常勤 | D46: （ | G46: 名）
A48: （３）貴施設の医師以外の職員数をお答えください。（常勤・非常勤は問いません。）
B49: 看護師 | H49: （ | K49: 名）
B50: 薬剤師 | H50: （ | K50: 名）
B51: 医療ソーシャルワーカー | H51: （ | K51: 名）
B52: 管理栄養士 | H52: （ | K52: 名）
B53: リハビリ（PT・OT・ST） | H53: （ | K53: 名）
B54: その他 | H54: （ | K54: 名）
A56: ３．がん治療について
A57: 貴施設で実施可能ながんの治療方法をお答えください。
A58: ※１（１）で同意いただいた医療機関につきましては、高知県がんポータルサイト「がん治療を受けられる医療機関」へ掲載いたします。
A60: （１）手術療法（他の治療法との併用含む）
B61: ①あてはまるものに☑をつけてください。
B62: ※「血液腫瘍」及び「小児血液腫瘍」は、治療可とご回答いだいた場合でも、がんポータルサイトへは掲載いたしません。
B63: 我が国に 多いがん | E63: 大腸がん | N63: 泌尿器 | R63: 腎がん
E64: 肺がん | R64: 尿路がん
E65: 胃がん | R65: 膀胱がん
E66: 乳がん | R66: 副腎腫瘍
E67: 前立腺がん | N67: 男性 | R67: 精巣がん
E68: 肝がん | R68: その他の男性生殖器がん
E69: 胆のう・胆管がん | N69: 女性 | R69: 子宮頸がん・子宮体がん
E70: 膵臓がん | R70: 卵巣がん
B71: 頭部／頸部 | E71: 脳腫瘍 | R71: その他の女性生殖器がん
E72: 脊髄腫瘍 | N72: 皮膚／ 骨と軟部組織 | R72: 皮膚腫瘍
E73: 眼・眼窩腫瘍 | R73: 悪性骨軟部腫瘍
E74: 口腔がん・ 咽頭がん・ 鼻のがん | N74: 血液・リンパ | R74: 血液腫瘍
E75: 喉頭がん | N75: その他 | R75: 後腹膜・腹膜腫瘍
E76: 甲状腺がん | R76: 性腺外胚細胞腫瘍
B77: 胸部 | E77: 縦隔腫瘍 | R77: 原発不明がん
E78: 中皮腫（胸膜腫瘍） | N78: 小児 | R78: 小児脳腫瘍
B79: 消化管 | E79: 食道がん | R79: 小児の眼・眼窩腫瘍
E80: 小腸がん | R80: 小児悪性骨軟部腫瘍
E81: GIST（消化管間質腫瘍） | R81: その他の小児固形腫瘍
R82: 小児血液腫瘍
B84: ②上記以外に手術療法を実施可能ながんの種類がある場合はご記入ください。
B85: ( | Y85: )
A87: （２）放射線療法（他の治療法との併用含む）
B88: ①あてはまるものに☑をつけてください。
B89: ※「GIST（消化管間質腫瘍）」は、治療可とご回答いだいた場合でも、がんポータルサイトへは掲載いたしません。
B90: 我が国に 多いがん | E90: 大腸がん | N90: 泌尿器 | R90: 腎がん
E91: 肺がん | R91: 尿路がん
E92: 胃がん | R92: 膀胱がん
E93: 乳がん | R93: 副腎腫瘍
E94: 前立腺がん | N94: 男性 | R94: 精巣がん
E95: 肝がん | R95: その他の男性生殖器がん
E96: 胆のう・胆管がん | N96: 女性 | R96: 子宮頸がん・子宮体がん
E97: 膵臓がん | R97: 卵巣がん
B98: 頭部／頸部 | E98: 脳腫瘍 | R98: その他の女性生殖器がん
E99: 脊髄腫瘍 | N99: 皮膚／ 骨と軟部組織 | R99: 皮膚腫瘍
E100: 眼・眼窩腫瘍 | R100: 悪性骨軟部腫瘍
E101: 口腔がん・ 咽頭がん・ 鼻のがん | N101: 血液・リンパ | R101: 血液腫瘍
E102: 喉頭がん | N102: その他 | R102: 後腹膜・腹膜腫瘍
E103: 甲状腺がん | R103: 性腺外胚細胞腫瘍
B104: 胸部 | E104: 縦隔腫瘍 | R104: 原発不明がん
E105: 中皮腫（胸膜腫瘍） | N105: 小児 | R105: 小児脳腫瘍
B106: 消化管 | E106: 食道がん | R106: 小児の眼・眼窩腫瘍
E107: 小腸がん | R107: 小児悪性骨軟部腫瘍
E108: GIST（消化管間質腫瘍） | R108: その他の小児固形腫瘍
R109: 小児血液腫瘍
B111: ②上記以外に放射線療法を実施可能ながんの種類がある場合はご記入ください。
B112: ( | Y112: )
A114: （３）薬物療法（他の治療法との併用含む）
B115: ①あてはまるものに☑をつけてください。
N116: 化学療法 | Q116: 分子標的療法 | T116: 内分泌療法 | W116: 免疫療法
B117: 我が国に多いがん | G117: 大腸がん
G118: 肺がん
G119: 胃がん
G120: 乳がん
G121: 前立腺がん
G122: 肝がん
G123: 胆のう・胆管がん
G124: 膵臓がん
B125: 頭部／頸部 | G125: 脳腫瘍
...

Sheet DATA
A1: 主問 | C1: 副問 | E1: 副々問 | G1: 回答欄 | I1: 注釈 | J1: 参照セル | K1: 入力値
A2: ■貴施設についてご記入ください。 | B2: １．医療機関名 | H2: 内容 | J2: $F$7 | K2: =IF('R8'!$F$7="","",'R8'!$F$7)
B3: ２．住所 | H3: 内容 | J3: $F$9 | K3: =IF('R8'!$F$9="","",'R8'!$F$9)
B4: ３．電話番号 | H4: 内容 | J4: $F$11 | K4: =IF('R8'!$F$11="","",'R8'!$F$11)
B5: ４．ＦＡＸ番号 | H5: 内容 | J5: $F$13 | K5: =IF('R8'!$F$13="","",'R8'!$F$13)
A6: ■回答者についてご記入ください。 | B6: １．所属部署 | H6: 内容 | J6: $F$16 | K6: =IF('R8'!$F$16="","",'R8'!$F$16)
B7: ２．職名 | H7: 内容 | J7: $F$18 | K7: =IF('R8'!$F$18="","",'R8'!$F$18)
B8: ３．氏名 | H8: 内容 | J8: $F$20 | K8: =IF('R8'!$F$20="","",'R8'!$F$20)
B9: ４．直通電話番号 | H9: 内容 | J9: $F$22 | K9: =IF('R8'!$F$22="","",'R8'!$F$22)
B10: ５．メールアドレス | H10: 内容 | J10: $F$24 | K10: =IF('R8'!$F$24="","",'R8'!$F$24)
A11: １．調査情報の利用について | B11: （１）この調査情報（医療機関名、所在地等を含む）を高知県が作成するパンフレット・ホームページ等で公表することに同意いただけますか。 | C11: ①高知県がんポータルサイトへの「がん治療を受けられる医療機関」の掲載（参考：https://gansapo.pref.kochi.lg.jp/search/） | G11: 同意する | J11: $C$33 | K11: FALSE
G12: 同意しない | J12: $J$33 | K12: FALSE
C13: ②高知がん診療連携協議会 緩和ケア部会（事務局：高知大学医学部附属病院）へ提供し、地域連携緩和ケアマップの作成に活用 | G13: 同意する | J13: $C$36 | K13: FALSE
G14: 同意しない | J14: $J$36 | K14: FALSE
A15: ２．貴施設の体制について | B15: （１）貴施設では、外来や入院でがん患者の治療を行っていますか。 | G15: はい | J15: $B$40 | K15: FALSE
G16: いいえ | J16: $K$40 | K16: FALSE
B17: （２）貴施設の医師数をお答えください。 | C17: 常勤 | H17: 内容 | J17: $E$45 | K17: =IF('R8'!$E$45="","",'R8'!$E$45)
C18: 非常勤 | H18: 内容 | J18: $E$46 | K18: =IF('R8'!$E$46="","",'R8'!$E$46)
B19: （３）貴施設の医師以外の職員数をお答えください。（常勤・非常勤は問いません。） | C19: 看護師 | H19: 内容 | J19: $I$49 | K19: =IF('R8'!$I$49="","",'R8'!$I$49)
C20: 薬剤師 | H20: 内容 | J20: $I$50 | K20: =IF('R8'!$I$50="","",'R8'!$I$50)
C21: 医療ソーシャルワーカー | H21: 内容 | J21: $I$51 | K21: =IF('R8'!$I$51="","",'R8'!$I$51)
C22: 管理栄養士 | H22: 内容 | J22: $I$52 | K22: =IF('R8'!$I$52="","",'R8'!$I$52)
C23: リハビリ（PT・OT・ST） | H23: 内容 | J23: $I$53 | K23: =IF('R8'!$I$53="","",'R8'!$I$53)
C24: その他 | H24: 内容 | J24: $I$54 | K24: =IF('R8'!$I$54="","",'R8'!$I$54)
A25: ３．がん治療について | B25: 貴施設で実施可能ながんの治療方法をお答えください。 | C25: （１）手術療法（他の治療法との併用含む） | D25: ①あてはまるものに☑をつけてください。 | F25: 我が国に多いがん | G25: 大腸がん | J25: $K$63 | K25: FALSE
G26: 肺がん | J26: $K$64 | K26: FALSE
G27: 胃がん | J27: $K$65 | K27: FALSE
G28: 乳がん | J28: $K$66 | K28: FALSE
G29: 前立腺がん | J29: $K$67 | K29: FALSE
G30: 肝がん | J30: $K$68 | K30: FALSE
G31: 胆のう・胆管がん | J31: $K$69 | K31: FALSE
G32: 膵臓がん | J32: $K$70 | K32: FALSE
F33: 頭部／頸部 | G33: 脳腫瘍 | J33: $K$71 | K33: FALSE
G34: 脊髄腫瘍 | J34: $K$72 | K34: FALSE
G35: 眼・眼窩腫瘍 | J35: $K$73 | K35: FALSE
G36: 口腔がん・咽頭がん・鼻のがん | J36: $K$74 | K36: FALSE
G37: 喉頭がん | J37: $K$75 | K37: FALSE
G38: 甲状腺がん | J38: $K$76 | K38: FALSE
F39: 胸部 | G39: 縦隔腫瘍 | J39: $K$77 | K39: FALSE
G40: 中皮腫（胸膜腫瘍） | J40: $K$78 | K40: FALSE
F41: 消化管 | G41: 食道がん | J41: $K$79 | K41: FALSE
G42: 小腸がん | J42: $K$80 | K42: FALSE
G43: GIST（消化管間質腫瘍） | J43: $K$81 | K43: FALSE
F44: 泌尿器 | G44: 腎がん | J44: $X$63 | K44: FALSE
G45: 尿路がん | J45: $X$64 | K45: FALSE
G46: 膀胱がん | J46: $X$65 | K46: FALSE
G47: 副腎腫瘍 | J47: $X$66 | K47: FALSE
F48: 男性 | G48: 精巣がん | J48: $X$67 | K48: FALSE
G49: その他の男性生殖器がん | J49: $X$68 | K49: FALSE
F50: 女性 | G50: 子宮頸がん・子宮体がん | J50: $X$69 | K50: FALSE
G51: 卵巣がん | J51: $X$70 | K51: FALSE
G52: その他の女性生殖器がん | J52: $X$71 | K52: FALSE
F53: 皮膚／骨と軟部組織 | G53: 皮膚腫瘍 | J53: $X$72 | K53: FALSE
G54: 悪性骨軟部腫瘍 | J54: $X$73 | K54: FALSE
F55: 血液・リンパ | G55: 血液腫瘍 | J55: $X$74 | K55: FALSE
F56: その他 | G56: 後腹膜・腹膜腫瘍 | J56: $X$75 | K56: FALSE
G57: 性腺外胚細胞腫瘍 | J57: $X$76 | K57: FALSE
G58: 原発不明がん | J58: $X$77 | K58: FALSE
F59: 小児 | G59: 小児脳腫瘍 | J59: $X$78 | K59: FALSE
G60: 小児の眼・眼窩腫瘍 | J60: $X$79 | K60: FALSE
G61: 小児悪性骨軟部腫瘍 | J61: $X$80 | K61: FALSE
G62: その他の小児固形腫瘍 | J62: $X$81 | K62: FALSE
G63: 小児血液腫瘍 | J63: $X$82 | K63: FALSE
D64: ②上記以外に手術療法を実施可能ながんの種類がある場合はご記入ください。 | H64: 内容 | J64: $C$85 | K64: =IF('R8'!$C$85="","",'R8'!$C$85)
C65: （２）放射線療法（他の治療法との併用含む） | D65: ①あてはまるものに☑をつけてください。 | F65: 我が国に多いがん | G65: 大腸がん | J65: $K$90 | K65: FALSE
G66: 肺がん | J66: $K$91 | K66: FALSE
G67: 胃がん | J67: $K$92 | K67: FALSE
G68: 乳がん | J68: $K$93 | K68: FALSE
G69: 前立腺がん | J69: $K$94 | K69: FALSE
G70: 肝がん | J70: $K$95 | K70: FALSE
G71: 胆のう・胆管がん | J71: $K$96 | K71: FALSE
G72: 膵臓がん | J72: $K$97 | K72: FALSE
F73: 頭部／頸部 | G73: 脳腫瘍 | J73: $K$98 | K73: FALSE
G74: 脊髄腫瘍 | J74: $K$99 | K74: FALSE
G75: 眼・眼窩腫瘍 | J75: $K$100 | K75: FALSE
G76: 口腔がん・咽頭がん・鼻のがん | J76: $K$101 | K76: FALSE
G77: 喉頭がん | J77: $K$102 | K77: FALSE
G78: 甲状腺がん | J78: $K$103 | K78: FALSE
F79: 胸部 | G79: 縦隔腫瘍 | J79: $K$104 | K79: FALSE
G80: 中皮腫（胸膜腫瘍） | J80: $K$105 | K80: FALSE
F81: 消化管 | G81: 食道がん | J81: $K$106 | K81: FALSE
G82: 小腸がん | J82: $K$107 | K82: FALSE
G83: GIST（消化管間質腫瘍） | J83: $K$108 | K83: FALSE
F84: 泌尿器 | G84: 腎がん | J84: $X$90 | K84: FALSE
G85: 尿路がん | J85: $X$91 | K85: FALSE
G86: 膀胱がん | J86: $X$92 | K86: FALSE
G87: 副腎腫瘍 | J87: $X$93 | K87: FALSE
F88: 男性 | G88: 精巣がん | J88: $X$94 | K88: FALSE
G89: その他の男性生殖器がん | J89: $X$95 | K89: FALSE
F90: 女性 | G90: 子宮頸がん・子宮体がん | J90: $X$96 | K90: FALSE
G91: 卵巣がん | J91: $X$97 | K91: FALSE
G92: その他の女性生殖器がん | J92: $X$98 | K92: FALSE
F93: 皮膚／骨と軟部組織 | G93: 皮膚腫瘍 | J93: $X$99 | K93: FALSE
G94: 悪性骨軟部腫瘍 | J94: $X$100 | K94: FALSE
F95: 血液・リンパ | G95: 血液腫瘍 | J95: $X$101 | K95: FALSE
F96: その他 | G96: 後腹膜・腹膜腫瘍 | J96: $X$102 | K96: FALSE
G97: 性腺外胚細胞腫瘍 | J97: $X$103 | K97: FALSE
G98: 原発不明がん | J98: $X$104 | K98: FALSE
F99: 小児 | G99: 小児脳腫瘍 | J99: $X$105 | K99: FALSE
G100: 小児の眼・眼窩腫瘍 | J100: $X$106 | K100: FALSE
...
