Workbook

Sheet R8
A2: 令和８年度医療機関がん診療体制調査
Z4: ○ 令和８年５月１日現在の状況をご記入ください。
A6: ■貴施設についてご記入ください。
A7: １．医療機関名
A9: ２．住所
A11: ３．電話番号
A13: ４．ＦＡＸ番号
A15: ■回答者についてご記入ください。
A16: １．所属部署
A18: ２．職名
A20: ３．氏名
A22: ４．直通電話番号
A24: ５．メールアドレス
A26: ■以下の設問についてお答えください。（あてはまるものに☑をつけてください。）
... A29: ※公表は、以下を想定しています。
B31: ①高知県がんポータルサイトへの「がん治療を受けられる医療機関」の掲載
B32: （参考：https://gansapo.pref.kochi.lg.jp/search/）
D33: 同意する | K33: 同意しない
B35: ②高知がん診療連携協議会 緩和ケア部会（事務局：高知大学医学部附属病院）へ提供し、 地域連携緩和ケアマップの作成に活用
D36: 同意する | K36: 同意しない
A38: ２．貴施設の体制について
A39: （１）貴施設では、外来や入院でがん患者の治療を行っていますか。
C40: はい | L40: いいえ
B41: ↓「はい」の場合 以下の設問にお答えください。 | K41: ↓「いいえ」の場合 ○緩和ケアを行っている施設は 項目９と10の設問にお答えください。
K42: ○緩和ケアを行っていない施設は 設問は以上です。
A44: （２）貴施設の医師数をお答えください。
B45: 常勤 | D45: （ | G45: 名）
B46: 非常勤 | D46: （ | G46: 名）
A48: （３）貴施設の医師以外の職員数をお答えください。（常勤・非常勤は問いません。）
B49: 看護師 | H49: （ | K49: 名）
B50: 薬剤師 | H50: （ | K50: 名）
B51: 医療ソーシャルワーカー | H51: （ | K51: 名）
B52: 管理栄養士 | H52: （ | K52: 名）
B53: リハビリ（PT・OT・ST） | H53: （ | K53: 名）
B54: その他 | H54: （ | K54: 名）
A56: ３．がん治療について
A57: 貴施設で実施可能ながんの治療方法をお答えください。
A58: ※１（１）で同意いただいた医療機関につきましては、高知県がんポータルサイト「がん治療を受けられる医療機関」へ掲載いたします。
A60: （１）手術療法（他の治療法との併用含む）
B61: ①あてはまるものに☑をつけてください。
...

Sheet DATA
A1: 主問 | C1: 副問 | E1: 副々問 | G1: 回答欄 | I1: 注釈 | J1: 参照セル | K1: 入力値
A2: ■貴施設についてご記入ください。 | B2: １．医療機関名 | H2: 内容 | J2: $F$7 | K2: =IF('R8'!$F$7="","",'R8'!$F$7)
B3: ２．住所 | H3: 内容 | J3: $F$9 | K3: =IF('R8'!$F$9="","",'R8'!$F$9)
B4: ３．電話番号 | H4: 内容 | J4: $F$11 | K4: =IF('R8'!$F$11="","",'R8'!$F$11)
B5: ４．ＦＡＸ番号 | H5: 内容 | J5: $F$13 | K5: =IF('R8'!$F$13="","",'R8'!$F$13)
A6: ■回答者についてご記入ください。 | B6: １．所属部署 | H6: 内容 | J6: $F$16 | K6: =IF('R8'!$F$16="","",'R8'!$F$16)
B7: ２．職名 | H7: 内容 | J7: $F$18 | K7: =IF('R8'!$F$18="","",'R8'!$F$18)
B8: ３．氏名 | H8: 内容 | J8: $F$20 | K8: =IF('R8'!$F$20="","",'R8'!$F$20)
B9: ４．直通電話番号 | H9: 内容 | J9: $F$22 | K9: =IF('R8'!$F$22="","",'R8'!$F$22)
B10: ５．メールアドレス | H10: 内容 | J10: $F$24 | K10: =IF('R8'!$F$24="","",'R8'!$F$24)
A11: １．調査情報の利用について | B11: （１）この調査情報（医療機関名、所在地等を含む）を高知県が作成するパンフレット・ホームページ等で公表することに同意いただけますか。 | C11: ①高知県がんポータルサイトへの「がん治療を受けられる医療機関」の掲載（参考：https://gansapo.pref.kochi.lg.jp/search/） | G11: 同意する | J11: $C$33 | K11: FALSE
G12: 同意しない | J12: $J$33 | K12: FALSE
C13: ②高知がん診療連携協議会 緩和ケア部会（事務局：高知大学医学部附属病院）へ提供し、地域連携緩和ケアマップの作成に活用 | G13: 同意する | J13: $C$36 | K13: FALSE
G14: 同意しない | J14: $J$36 | K14: FALSE
A15: ２．貴施設の体制について | B15: （１）貴施設では、外来や入院でがん患者の治療を行っていますか。 | G15: はい | J15: $B$40 | K15: FALSE
G16: いいえ | J16: $K$40 | K16: FALSE
B17: （２）貴施設の医師数をお答えください。 | C17: 常勤 | H17: 内容 | J17: $E$45 | K17: =IF('R8'!$E$45="","",'R8'!$E$45)
C18: 非常勤 | H18: 内容 | J18: $E$46 | K18: =IF('R8'!$E$46="","",'R8'!$E$46)
B19: （３）貴施設の医師以外の職員数をお答えください。（常勤・非常勤は問いません。） | C19: 看護師 | H19: 内容 | J19: $I$49 | K19: =IF('R8'!$I$49="","",'R8'!$I$49)
C20: 薬剤師 | H20: 内容 | J20: $I$50 | K20: =IF('R8'!$I$50="","",'R8'!$I$50)
C21: 医療ソーシャルワーカー | H21: 内容 | J21: $I$51 | K21: =IF('R8'!$I$51="","",'R8'!$I$51)
C22: 管理栄養士 | H22: 内容 | J22: $I$52 | K22: =IF('R8'!$I$52="","",'R8'!$I$52)
C23: リハビリ（PT・OT・ST） | H23: 内容 | J23: $I$53 | K23: =IF('R8'!$I$53="","",'R8'!$I$53)
C24: その他 | H24: 内容 | J24: $I$54 | K24: =IF('R8'!$I$54="","",'R8'!$I$54)
A25: ３．がん治療について | B25: 貴施設で実施可能ながんの治療方法をお答えください。 | C25: （１）手術療法（他の治療法との併用含む） | D25: ①あてはまるものに☑をつけてください。 | F25: 我が国に多いがん | G25: 大腸がん | J25: $K$63 | K25: FALSE
G26: 肺がん | J26: $K$64 | K26: FALSE
G27: 胃がん | J27: $K$65 | K27: FALSE
G28: 乳がん | J28: $K$66 | K28: FALSE
G29: 前立腺がん | J29: $K$67 | K29: FALSE
G30: 肝がん | J30: $K$68 | K30: FALSE
G31: 胆のう・胆管がん | J31: $K$69 | K31: FALSE
G32: 膵臓がん | J32: $K$70 | K32: FALSE
F33: 頭部／頸部 | G33: 脳腫瘍 | J33: $K$71 | K33: FALSE
G34: 脊髄腫瘍 | J34: $K$72 | K34: FALSE
G35: 眼・眼窩腫瘍 | J35: $K$73 | K35: FALSE
G36: 口腔がん・咽頭がん・鼻のがん | J36: $K$74 | K36: FALSE
G37: 喉頭がん | J37: $K$75 | K37: FALSE
G38: 甲状腺がん | J38: $K$76 | K38: FALSE
F39: 胸部 | G39: 縦隔腫瘍 | J39: $K$77 | K39: FALSE
G40: 中皮腫（胸膜腫瘍） | J40: $K$78 | K40: FALSE
...
